BEGIN:VCALENDAR
VERSION:2.0
PRODID:-//Good Shepherd Lutheran Church - ECPv6.15.20//NONSGML v1.0//EN
CALSCALE:GREGORIAN
METHOD:PUBLISH
X-WR-CALNAME:Good Shepherd Lutheran Church
X-ORIGINAL-URL:https://goodshepherdlakeorion.net
X-WR-CALDESC:Events for Good Shepherd Lutheran Church
REFRESH-INTERVAL;VALUE=DURATION:PT1H
X-Robots-Tag:noindex
X-PUBLISHED-TTL:PT1H
BEGIN:VTIMEZONE
TZID:America/New_York
BEGIN:DAYLIGHT
TZOFFSETFROM:-0500
TZOFFSETTO:-0400
TZNAME:EDT
DTSTART:20230312T070000
END:DAYLIGHT
BEGIN:STANDARD
TZOFFSETFROM:-0400
TZOFFSETTO:-0500
TZNAME:EST
DTSTART:20231105T060000
END:STANDARD
BEGIN:DAYLIGHT
TZOFFSETFROM:-0500
TZOFFSETTO:-0400
TZNAME:EDT
DTSTART:20240310T070000
END:DAYLIGHT
BEGIN:STANDARD
TZOFFSETFROM:-0400
TZOFFSETTO:-0500
TZNAME:EST
DTSTART:20241103T060000
END:STANDARD
BEGIN:DAYLIGHT
TZOFFSETFROM:-0500
TZOFFSETTO:-0400
TZNAME:EDT
DTSTART:20250309T070000
END:DAYLIGHT
BEGIN:STANDARD
TZOFFSETFROM:-0400
TZOFFSETTO:-0500
TZNAME:EST
DTSTART:20251102T060000
END:STANDARD
BEGIN:DAYLIGHT
TZOFFSETFROM:-0500
TZOFFSETTO:-0400
TZNAME:EDT
DTSTART:20260308T070000
END:DAYLIGHT
BEGIN:STANDARD
TZOFFSETFROM:-0400
TZOFFSETTO:-0500
TZNAME:EST
DTSTART:20261101T060000
END:STANDARD
BEGIN:DAYLIGHT
TZOFFSETFROM:-0500
TZOFFSETTO:-0400
TZNAME:EDT
DTSTART:20270314T070000
END:DAYLIGHT
BEGIN:STANDARD
TZOFFSETFROM:-0400
TZOFFSETTO:-0500
TZNAME:EST
DTSTART:20271107T060000
END:STANDARD
END:VTIMEZONE
BEGIN:VTIMEZONE
TZID:UTC
BEGIN:STANDARD
TZOFFSETFROM:+0000
TZOFFSETTO:+0000
TZNAME:UTC
DTSTART:20220101T000000
END:STANDARD
END:VTIMEZONE
BEGIN:VEVENT
DTSTART;TZID=America/New_York:20260412T130000
DTEND;TZID=America/New_York:20260412T160000
DTSTAMP:20260423T161455
CREATED:20260303T181208Z
LAST-MODIFIED:20260303T181208Z
UID:1842-1775998800-1776009600@goodshepherdlakeorion.net
SUMMARY:Euchre Tournament!
DESCRIPTION:Join us for an afternoon of euchre and friendly competition.  Please bring a snack to share.  This will be our last monthly Euchre Tournament before we break for the summer.  Who will have summer euchre bragging rights?   Come play to find out!  Maybe it will be you!  Location: Fellowship Hall
URL:https://goodshepherdlakeorion.net/event/euchre-tournament/
LOCATION:Good Shepherd Lutheran Church\, 1950 S Baldwin Rd.\, Lake Orion\, MI\, 48360\, United States
END:VEVENT
BEGIN:VEVENT
DTSTART;TZID=America/New_York:20260405T083000
DTEND;TZID=America/New_York:20260405T110000
DTSTAMP:20260423T161455
CREATED:20260317T162019Z
LAST-MODIFIED:20260317T162019Z
UID:1855-1775377800-1775386800@goodshepherdlakeorion.net
SUMMARY:Easter Services\, 8:30am and 10:00am
DESCRIPTION:He has risen!  He has risen indeed!  Alleluia!   Come celebrate with us our risen Lord and Savior Jesus Christ!  We offer two Easter services\, one at 8:30am and one at 10:00am.  We look forward to celebrating with you! \n“He is not here; he has risen!” ~ Luke 24:6
URL:https://goodshepherdlakeorion.net/event/easter-services-830am-and-1000am/
LOCATION:Good Shepherd Lutheran Church\, 1950 S Baldwin Rd.\, Lake Orion\, MI\, 48360\, United States
END:VEVENT
BEGIN:VEVENT
DTSTART;TZID=America/New_York:20260404T100000
DTEND;TZID=America/New_York:20260404T113000
DTSTAMP:20260423T161455
CREATED:20260317T164539Z
LAST-MODIFIED:20260317T164539Z
UID:1863-1775296800-1775302200@goodshepherdlakeorion.net
SUMMARY:Easter Egg Hunt!
DESCRIPTION:All are welcome to join us for an annual Easter Egg Hunt!  A great family time with games\, an egg hunt\, and fellowship!  See you there! 
URL:https://goodshepherdlakeorion.net/event/easter-egg-hunt/
LOCATION:Good Shepherd Lutheran Church\, 1950 S Baldwin Rd.\, Lake Orion\, MI\, 48360\, United States
ATTACH;FMTTYPE=image/png:https://goodshepherdlakeorion.net/wp-content/uploads/2026/03/Screenshot-2026-03-17-091250.png
END:VEVENT
BEGIN:VEVENT
DTSTART;TZID=America/New_York:20260403T190000
DTEND;TZID=America/New_York:20260403T200000
DTSTAMP:20260423T161455
CREATED:20260317T161447Z
LAST-MODIFIED:20260317T161447Z
UID:1853-1775242800-1775246400@goodshepherdlakeorion.net
SUMMARY:Good Friday Service\, 7pm
DESCRIPTION:At our Good Friday service\, we remember the sacrifice of our Lord Jesus Christ upon the cross.  Our service starts at 7:00pm.  All are welcome to join us during our Holy Week services. \n“Father\, forgive them\, for they do not know what they are doing.” ~ Luke 23:34.
URL:https://goodshepherdlakeorion.net/event/good-friday-service-7pm/
LOCATION:Good Shepherd Lutheran Church\, 1950 S Baldwin Rd.\, Lake Orion\, MI\, 48360\, United States
END:VEVENT
BEGIN:VEVENT
DTSTART;TZID=America/New_York:20260402T190000
DTEND;TZID=America/New_York:20260402T200000
DTSTAMP:20260423T161455
CREATED:20260317T160905Z
LAST-MODIFIED:20260317T160905Z
UID:1851-1775156400-1775160000@goodshepherdlakeorion.net
SUMMARY:Maundy Thursday Service\, 7pm
DESCRIPTION:Communion service as we remember the Last Supper with Jesus and His disciples.  All are welcome to join us at 7:00pm.
URL:https://goodshepherdlakeorion.net/event/maundy-thursday-service-7pm/
LOCATION:Good Shepherd Lutheran Church\, 1950 S Baldwin Rd.\, Lake Orion\, MI\, 48360\, United States
END:VEVENT
BEGIN:VEVENT
DTSTART;TZID=America/New_York:20260329T100000
DTEND;TZID=America/New_York:20260329T110000
DTSTAMP:20260423T161455
CREATED:20260303T181527Z
LAST-MODIFIED:20260303T181527Z
UID:1844-1774778400-1774782000@goodshepherdlakeorion.net
SUMMARY:Palm Sunday Service
DESCRIPTION:All are welcome to join us for our Palm Sunday service.  “‘They took palm branches and went out to meet him\, shouting\, ‘Hosanna!  Blessed is he who comes in the name of the Lord!  Blessed is the king of Israel!'” ~ John 12:13
URL:https://goodshepherdlakeorion.net/event/palm-sunday-service/
LOCATION:Good Shepherd Lutheran Church\, 1950 S Baldwin Rd.\, Lake Orion\, MI\, 48360\, United States
END:VEVENT
BEGIN:VEVENT
DTSTART;TZID=America/New_York:20260325T180000
DTEND;TZID=America/New_York:20260325T200000
DTSTAMP:20260423T161455
CREATED:20260303T180701Z
LAST-MODIFIED:20260303T180701Z
UID:1840-1774461600-1774468800@goodshepherdlakeorion.net
SUMMARY:Mid-Week Lent Dinner & Service
DESCRIPTION:This week\, during our Lent Rotation with our area Circuit Churches\, our mid-week Lent service will be held at Good Shepherd!  All are welcome to join us.  A meal will be served in the Fellowship Hall from 6pm to 7pm.  We ask that if you bring a side dish or dessert.  The worship service will begin at 7pm in the Sanctuary.
URL:https://goodshepherdlakeorion.net/event/mid-week-lent-dinner-service/
LOCATION:Good Shepherd Lutheran Church\, 1950 S Baldwin Rd.\, Lake Orion\, MI\, 48360\, United States
END:VEVENT
BEGIN:VEVENT
DTSTART;TZID=America/New_York:20260322T110000
DTEND;TZID=America/New_York:20260322T123000
DTSTAMP:20260423T161455
CREATED:20260129T170742Z
LAST-MODIFIED:20260303T180227Z
UID:1815-1774177200-1774182600@goodshepherdlakeorion.net
SUMMARY:Wiggle Church!
DESCRIPTION:Join us for a fun\, family-friendly worship experience made especially for kids!  We welcome wiggles\, giggles\, and curious questions as we share songs\, stories\, and simple messages of God’s love. Come as you are!  Open Gym @ 11:00am; Meal Shared @ 11:30am; Worship & Wiggles @ 12pm.
URL:https://goodshepherdlakeorion.net/event/wiggle-church/
LOCATION:Good Shepherd Lutheran Church\, 1950 S Baldwin Rd.\, Lake Orion\, MI\, 48360\, United States
END:VEVENT
BEGIN:VEVENT
DTSTART;TZID=America/New_York:20260225T180000
DTEND;TZID=America/New_York:20260325T200000
DTSTAMP:20260423T161455
CREATED:20260218T180158Z
LAST-MODIFIED:20260218T180158Z
UID:1833-1772042400-1774468800@goodshepherdlakeorion.net
SUMMARY:
DESCRIPTION:As we enter into the Lenten season\, we enjoy rotating through our Circuit churches every Wednesday evening for a potluck meal and service.  All are welcome to join at any or all of the services and locations!  At 6pm is a potluck dinner\, please bring a side dish or dessert to pass\, the host church will provide the main meal.   At 7 pm is the worship service. \n\nFebruary 25th – Crown of Life\n\n2975 Dutton Road\, Rochester Hills\, MI 48360\n\n\nMarch 4th – St. Trinity\n\n7925 Sashabaw Rd\, Clarkston\, MI 48348\n\n\nMarch 18th – St. Paul\n\n1133 Joslyn Ave\, Pontiac\, MI 48340\n\n\nMarch 25th – Good Shepherd\n\n1950 S. Baldwin Rd\, Lake Orion\, MI 48360
URL:https://goodshepherdlakeorion.net/event/1833/
LOCATION:MI
END:VEVENT
BEGIN:VEVENT
DTSTART;TZID=America/New_York:20260218T190000
DTEND;TZID=America/New_York:20260218T200000
DTSTAMP:20260423T161455
CREATED:20260218T174245Z
LAST-MODIFIED:20260218T174245Z
UID:1831-1771441200-1771444800@goodshepherdlakeorion.net
SUMMARY:Ash Wednesday Service
DESCRIPTION:All are welcome to join us this evening for our Ash Wednesday service\, with distribution of ashes.
URL:https://goodshepherdlakeorion.net/event/ash-wednesday-service/
LOCATION:Good Shepherd Lutheran Church\, 1950 S Baldwin Rd.\, Lake Orion\, MI\, 48360\, United States
END:VEVENT
BEGIN:VEVENT
DTSTART;TZID=America/New_York:20241225T100000
DTEND;TZID=America/New_York:20241225T110000
DTSTAMP:20260423T161455
CREATED:20241212T175848Z
LAST-MODIFIED:20241212T175848Z
UID:1785-1735120800-1735124400@goodshepherdlakeorion.net
SUMMARY:Christmas Day Service
DESCRIPTION:Join us in celebration of our Savior’s birth!
URL:https://goodshepherdlakeorion.net/event/christmas-day-service/
LOCATION:Good Shepherd Lutheran Church\, 1950 S Baldwin Rd.\, Lake Orion\, MI\, 48360\, United States
ATTACH;FMTTYPE=image/jpeg:https://goodshepherdlakeorion.net/wp-content/uploads/2024/12/CrucifixTree.jpg
END:VEVENT
BEGIN:VEVENT
DTSTART;TZID=America/New_York:20241224T190000
DTEND;TZID=America/New_York:20241224T200000
DTSTAMP:20260423T161455
CREATED:20241212T175720Z
LAST-MODIFIED:20241212T175731Z
UID:1783-1735066800-1735070400@goodshepherdlakeorion.net
SUMMARY:Christmas Eve Evening Service
DESCRIPTION:Join us for this Christmas Eve Candlelight service.
URL:https://goodshepherdlakeorion.net/event/christmas-eve-evening-service/
LOCATION:Good Shepherd Lutheran Church\, 1950 S Baldwin Rd.\, Lake Orion\, MI\, 48360\, United States
ATTACH;FMTTYPE=image/jpeg:https://goodshepherdlakeorion.net/wp-content/uploads/2024/12/AdventDisplay.jpg
END:VEVENT
BEGIN:VEVENT
DTSTART;TZID=America/New_York:20241224T170000
DTEND;TZID=America/New_York:20241224T180000
DTSTAMP:20260423T161455
CREATED:20241211T131106Z
LAST-MODIFIED:20241212T175451Z
UID:1738-1735059600-1735063200@goodshepherdlakeorion.net
SUMMARY:Christmas Eve Afternoon Service
DESCRIPTION:Join us for Christmas Eve candlelight services.
URL:https://goodshepherdlakeorion.net/event/christmas-eve-service/
LOCATION:Good Shepherd Lutheran Church\, 1950 S Baldwin Rd.\, Lake Orion\, MI\, 48360\, United States
ATTACH;FMTTYPE=image/jpeg:https://goodshepherdlakeorion.net/wp-content/uploads/2024/12/AdventDisplay.jpg
END:VEVENT
BEGIN:VEVENT
DTSTART;TZID=UTC:20231104T170000
DTEND;TZID=UTC:20231104T203000
DTSTAMP:20260423T161455
CREATED:20230804T220420Z
LAST-MODIFIED:20230807T190756Z
UID:1306-1699117200-1699129800@goodshepherdlakeorion.net
SUMMARY:Community Meal
DESCRIPTION:This is a sample event.
URL:https://goodshepherdlakeorion.net/event/community-meal/
LOCATION:Good Shepherd Lutheran Church\, 1950 S Baldwin Rd.\, Lake Orion\, MI\, 48360\, United States
END:VEVENT
BEGIN:VEVENT
DTSTART;TZID=UTC:20231018T193000
DTEND;TZID=UTC:20231018T220000
DTSTAMP:20260423T161455
CREATED:20230804T221435Z
LAST-MODIFIED:20230807T190832Z
UID:1312-1697657400-1697666400@goodshepherdlakeorion.net
SUMMARY:Smart Choices
DESCRIPTION:Smart Choices is a support group for individuals who are struggling with addictions.
URL:https://goodshepherdlakeorion.net/event/smart-choices/
LOCATION:Good Shepherd Lutheran Church\, 1950 S Baldwin Rd.\, Lake Orion\, MI\, 48360\, United States
ATTACH;FMTTYPE=image/jpeg:https://goodshepherdlakeorion.net/wp-content/uploads/2019/09/SupportGroup.jpg
END:VEVENT
BEGIN:VEVENT
DTSTART;TZID=UTC:20231009T160000
DTEND;TZID=UTC:20231009T190000
DTSTAMP:20260423T161455
CREATED:20230804T221020Z
LAST-MODIFIED:20230807T190857Z
UID:1310-1696867200-1696878000@goodshepherdlakeorion.net
SUMMARY:Faith Builder
DESCRIPTION:Faith Builder is a six-week training event to equip parents to shape their child’s development as a follower of Christ.
URL:https://goodshepherdlakeorion.net/event/faith-builder/
LOCATION:Good Shepherd Lutheran Church\, 1950 S Baldwin Rd.\, Lake Orion\, MI\, 48360\, United States
END:VEVENT
END:VCALENDAR