BEGIN:VCALENDAR
VERSION:2.0
PRODID:-//Good Shepherd Lutheran Church - ECPv6.15.20//NONSGML v1.0//EN
CALSCALE:GREGORIAN
METHOD:PUBLISH
X-WR-CALNAME:Good Shepherd Lutheran Church
X-ORIGINAL-URL:https://goodshepherdlakeorion.net
X-WR-CALDESC:Events for Good Shepherd Lutheran Church
REFRESH-INTERVAL;VALUE=DURATION:PT1H
X-Robots-Tag:noindex
X-PUBLISHED-TTL:PT1H
BEGIN:VTIMEZONE
TZID:America/New_York
BEGIN:DAYLIGHT
TZOFFSETFROM:-0500
TZOFFSETTO:-0400
TZNAME:EDT
DTSTART:20250309T070000
END:DAYLIGHT
BEGIN:STANDARD
TZOFFSETFROM:-0400
TZOFFSETTO:-0500
TZNAME:EST
DTSTART:20251102T060000
END:STANDARD
BEGIN:DAYLIGHT
TZOFFSETFROM:-0500
TZOFFSETTO:-0400
TZNAME:EDT
DTSTART:20260308T070000
END:DAYLIGHT
BEGIN:STANDARD
TZOFFSETFROM:-0400
TZOFFSETTO:-0500
TZNAME:EST
DTSTART:20261101T060000
END:STANDARD
BEGIN:DAYLIGHT
TZOFFSETFROM:-0500
TZOFFSETTO:-0400
TZNAME:EDT
DTSTART:20270314T070000
END:DAYLIGHT
BEGIN:STANDARD
TZOFFSETFROM:-0400
TZOFFSETTO:-0500
TZNAME:EST
DTSTART:20271107T060000
END:STANDARD
END:VTIMEZONE
BEGIN:VEVENT
DTSTART;VALUE=DATE:20260209
DTEND;VALUE=DATE:20260902
DTSTAMP:20260423T130705
CREATED:20260129T174424Z
LAST-MODIFIED:20260129T174424Z
UID:1823-1770595200-1788307199@goodshepherdlakeorion.net
SUMMARY:Preschool Registration!
DESCRIPTION:“Let Your Light Shine!” ~ Matthew 5:16 \nWe offer preschool for children ages 2 through 5 years old.  We have small class sizes with two teachers in each classroom.  We offer flex scheduling to meet your family’s needs!  You can choose your days and times!  Preschool is offered Monday through Friday from 9:00am – 12:00pm or 9:00am – 3:00pm.  We have a loving staff that looks forward to meeting you!  Our preschool director Tracey Rathsburg would love to conduct a tour of our fantastic facility for any interested families.  Call or email anytime to hear about our program. \nPhone: 2148-391-7244 \nEmail our Director: preschool@gsls.org
URL:https://goodshepherdlakeorion.net/event/preschool-registration/
LOCATION:Good Shepherd Lutheran Church\, 1950 S Baldwin Rd.\, Lake Orion\, MI\, 48360\, United States
END:VEVENT
BEGIN:VEVENT
DTSTART;TZID=America/New_York:20260615T090000
DTEND;TZID=America/New_York:20260619T120000
DTSTAMP:20260423T130705
CREATED:20260423T151333Z
LAST-MODIFIED:20260423T151333Z
UID:1869-1781514000-1781870400@goodshepherdlakeorion.net
SUMMARY:VBS Tropical Trek is coming June 15-19!
DESCRIPTION:We are excited to again offer a week of learning\, adventure\, and faith as we dive into a week of growth and nurture with God\, on a Tropical Trek – Jesus Comes to Seek and Save! Our program is designed for children ages 3 (potty trained) – entering 4th grade. Our hope and desire is for this week to be one step in the growth of your child’s faith\, regardless of their age\, grade\, or familiarity with Christianity. We plan to engage them in activities meant to teach them about the good\, gracious\, and life-giving God we worship\, while helping them practice some of what it means to live in that reality.  Contact the church at 248-391-1170 or church@gsls.org for more information or to register!
URL:https://goodshepherdlakeorion.net/event/vbs-tropical-trek-is-coming-june-15-19/
LOCATION:Good Shepherd Lutheran Church\, 1950 S Baldwin Rd.\, Lake Orion\, MI\, 48360\, United States
END:VEVENT
END:VCALENDAR