BEGIN:VCALENDAR
VERSION:2.0
PRODID:-//Good Shepherd Lutheran Church - ECPv6.15.20//NONSGML v1.0//EN
CALSCALE:GREGORIAN
METHOD:PUBLISH
X-WR-CALNAME:Good Shepherd Lutheran Church
X-ORIGINAL-URL:https://goodshepherdlakeorion.net
X-WR-CALDESC:Events for Good Shepherd Lutheran Church
REFRESH-INTERVAL;VALUE=DURATION:PT1H
X-Robots-Tag:noindex
X-PUBLISHED-TTL:PT1H
BEGIN:VTIMEZONE
TZID:America/New_York
BEGIN:DAYLIGHT
TZOFFSETFROM:-0500
TZOFFSETTO:-0400
TZNAME:EDT
DTSTART:20230312T070000
END:DAYLIGHT
BEGIN:STANDARD
TZOFFSETFROM:-0400
TZOFFSETTO:-0500
TZNAME:EST
DTSTART:20231105T060000
END:STANDARD
BEGIN:DAYLIGHT
TZOFFSETFROM:-0500
TZOFFSETTO:-0400
TZNAME:EDT
DTSTART:20240310T070000
END:DAYLIGHT
BEGIN:STANDARD
TZOFFSETFROM:-0400
TZOFFSETTO:-0500
TZNAME:EST
DTSTART:20241103T060000
END:STANDARD
BEGIN:DAYLIGHT
TZOFFSETFROM:-0500
TZOFFSETTO:-0400
TZNAME:EDT
DTSTART:20250309T070000
END:DAYLIGHT
BEGIN:STANDARD
TZOFFSETFROM:-0400
TZOFFSETTO:-0500
TZNAME:EST
DTSTART:20251102T060000
END:STANDARD
END:VTIMEZONE
BEGIN:VTIMEZONE
TZID:UTC
BEGIN:STANDARD
TZOFFSETFROM:+0000
TZOFFSETTO:+0000
TZNAME:UTC
DTSTART:20220101T000000
END:STANDARD
END:VTIMEZONE
BEGIN:VEVENT
DTSTART;TZID=America/New_York:20241224T170000
DTEND;TZID=America/New_York:20241224T180000
DTSTAMP:20260423T185021
CREATED:20241211T131106Z
LAST-MODIFIED:20241212T175451Z
UID:1738-1735059600-1735063200@goodshepherdlakeorion.net
SUMMARY:Christmas Eve Afternoon Service
DESCRIPTION:Join us for Christmas Eve candlelight services.
URL:https://goodshepherdlakeorion.net/event/christmas-eve-service/
LOCATION:Good Shepherd Lutheran Church\, 1950 S Baldwin Rd.\, Lake Orion\, MI\, 48360\, United States
ATTACH;FMTTYPE=image/jpeg:https://goodshepherdlakeorion.net/wp-content/uploads/2024/12/AdventDisplay.jpg
END:VEVENT
BEGIN:VEVENT
DTSTART;TZID=UTC:20231104T170000
DTEND;TZID=UTC:20231104T203000
DTSTAMP:20260423T185021
CREATED:20230804T220420Z
LAST-MODIFIED:20230807T190756Z
UID:1306-1699117200-1699129800@goodshepherdlakeorion.net
SUMMARY:Community Meal
DESCRIPTION:This is a sample event.
URL:https://goodshepherdlakeorion.net/event/community-meal/
LOCATION:Good Shepherd Lutheran Church\, 1950 S Baldwin Rd.\, Lake Orion\, MI\, 48360\, United States
END:VEVENT
BEGIN:VEVENT
DTSTART;TZID=UTC:20231018T193000
DTEND;TZID=UTC:20231018T220000
DTSTAMP:20260423T185021
CREATED:20230804T221435Z
LAST-MODIFIED:20230807T190832Z
UID:1312-1697657400-1697666400@goodshepherdlakeorion.net
SUMMARY:Smart Choices
DESCRIPTION:Smart Choices is a support group for individuals who are struggling with addictions.
URL:https://goodshepherdlakeorion.net/event/smart-choices/
LOCATION:Good Shepherd Lutheran Church\, 1950 S Baldwin Rd.\, Lake Orion\, MI\, 48360\, United States
ATTACH;FMTTYPE=image/jpeg:https://goodshepherdlakeorion.net/wp-content/uploads/2019/09/SupportGroup.jpg
END:VEVENT
BEGIN:VEVENT
DTSTART;TZID=UTC:20231009T160000
DTEND;TZID=UTC:20231009T190000
DTSTAMP:20260423T185021
CREATED:20230804T221020Z
LAST-MODIFIED:20230807T190857Z
UID:1310-1696867200-1696878000@goodshepherdlakeorion.net
SUMMARY:Faith Builder
DESCRIPTION:Faith Builder is a six-week training event to equip parents to shape their child’s development as a follower of Christ.
URL:https://goodshepherdlakeorion.net/event/faith-builder/
LOCATION:Good Shepherd Lutheran Church\, 1950 S Baldwin Rd.\, Lake Orion\, MI\, 48360\, United States
END:VEVENT
END:VCALENDAR